BEGIN:VCALENDAR
VERSION:2.0
PRODID:-//ChamberMaster//Event Calendar 2.0//EN
METHOD:PUBLISH
X-PUBLISHED-TTL:P3D
REFRESH-INTERVAL:P3D
CALSCALE:GREGORIAN
BEGIN:VEVENT
DTSTART:20231111T223000Z
DTEND:20231112T013000Z
X-MICROSOFT-CDO-ALLDAYEVENT:FALSE
SUMMARY:Retro Canary Club Stars and Stripes
DESCRIPTION:Salute To The Troops! USO Tribute Show Honoring Veterans Day!\n\nRetro Canary Club Stars and Stripes Forever! \n\nStarring Chelsea Emma Franko and her Little Big Band
X-ALT-DESC;FMTTYPE=text/html:Salute To The Troops! USO Tribute Show Honoring Veterans Day!<br />\nRetro Canary Club Stars and Stripes Forever!&nbsp\;<br />\nStarring Chelsea Emma Franko and her Little Big Band
LOCATION:Victor Valley College Performing Arts Center
UID:e.3354.4047
SEQUENCE:3
DTSTAMP:20260424T105758Z
URL:https://members.ghdcc.com/events/details/retro-canary-club-stars-and-stripes-4047
END:VEVENT

END:VCALENDAR
