BEGIN:VCALENDAR
VERSION:2.0
PRODID:-//ChamberMaster//Event Calendar 2.0//EN
METHOD:PUBLISH
X-PUBLISHED-TTL:P3D
REFRESH-INTERVAL:P3D
CALSCALE:GREGORIAN
BEGIN:VEVENT
DTSTART:20260602T013000Z
DTEND:20260602T023000Z
X-MICROSOFT-CDO-ALLDAYEVENT:FALSE
SUMMARY:R/C & Remodel - Ebmeyer Charter and Tour
DESCRIPTION:Ebmeyer Charter and Tour\n\nRibbon Cutting & Remodel Celebration!\n\nRibbon Cutting at 6:30 p.m.\n\nEvent is from 6:30 p.m. - 9:00 p.m.
X-ALT-DESC;FMTTYPE=text/html:<strong><span style="font-size:16px\;"><span style="font-family:times new roman\;">Ebmeyer Charter and Tour<br />\nRibbon Cutting &amp\; Remodel Celebration!<br />\n<span style="color:#FF0000\;">Ribbon Cutting at 6:30 p.m.</span><br />\nEvent is from 6:30 p.m. - 9:00 p.m.</span></span></strong>
LOCATION:13768 Pioneer Rd. Apple Valley\, CA 92307
UID:e.3354.5377
SEQUENCE:3
DTSTAMP:20260425T175017Z
URL:https://members.ghdcc.com/events/details/r-c-remodel-ebmeyer-charter-and-tour-5377
END:VEVENT

END:VCALENDAR
