BEGIN:VCALENDAR
VERSION:2.0
PRODID:-//ChamberMaster//Event Calendar 2.0//EN
METHOD:PUBLISH
X-PUBLISHED-TTL:P3D
REFRESH-INTERVAL:P3D
CALSCALE:GREGORIAN
BEGIN:VEVENT
DTSTART:20231121T200000Z
DTEND:20231121T210000Z
X-MICROSOFT-CDO-ALLDAYEVENT:FALSE
SUMMARY:R/C & New Location - FITFAMHD
DESCRIPTION:FITFAMHD\n\nRibbon Cutting and New Location Celebration!
X-ALT-DESC;FMTTYPE=text/html:<span style="font-size:16px\;"><span style="font-family:times new roman\;"><strong>FITFAMHD<br />\nRibbon Cutting and New Location Celebration!</strong></span></span>
LOCATION:22390 Eyota Rd.\, Suite A/B Apple Valley\, CA 92308
UID:e.3354.4298
SEQUENCE:3
DTSTAMP:20260424T105557Z
URL:https://members.ghdcc.com/events/details/r-c-new-location-fitfamhd-4298
END:VEVENT

END:VCALENDAR
