BEGIN:VCALENDAR
VERSION:2.0
PRODID:-//ChamberMaster//Event Calendar 2.0//EN
METHOD:PUBLISH
X-PUBLISHED-TTL:P3D
REFRESH-INTERVAL:P3D
CALSCALE:GREGORIAN
BEGIN:VEVENT
DTSTART:20231103T190000Z
DTEND:20231103T200000Z
X-MICROSOFT-CDO-ALLDAYEVENT:FALSE
SUMMARY:R/C & Grand Re-Opening - G T Hotels
DESCRIPTION:G T Hotels\n\nRibbon Cutting & Grand Re-Opening Celebration!
X-ALT-DESC;FMTTYPE=text/html:<strong><span style="font-size:16px\;"><span style="font-family:times new roman\;">G T Hotels</span></span><br />\n<span style="font-size:16px\;"><span style="font-family:times new roman\;">Ribbon Cutting &amp\; Grand Re-Opening Celebration!</span></span></strong>
LOCATION:G T Hotels (Formerly Green Tree Hotel) 14173 Green Tree Blvd. Victorville\, CA 92395
UID:e.3354.4036
SEQUENCE:3
DTSTAMP:20260424T123252Z
URL:https://members.ghdcc.com/events/details/r-c-grand-re-opening-g-t-hotels-4036
END:VEVENT

END:VCALENDAR
