BEGIN:VCALENDAR
VERSION:2.0
PRODID:-//ChamberMaster//Event Calendar 2.0//EN
METHOD:PUBLISH
X-PUBLISHED-TTL:P3D
REFRESH-INTERVAL:P3D
CALSCALE:GREGORIAN
BEGIN:VEVENT
DTSTART:20231102T220000Z
DTEND:20231102T230000Z
X-MICROSOFT-CDO-ALLDAYEVENT:FALSE
SUMMARY:R/C & Grand Opening- Rawfa Productions
DESCRIPTION:Rawfa Productions\n\nJoint Ribbon Cutting & Grand Opening Celebration with the HD Hispanic Chamber!
X-ALT-DESC;FMTTYPE=text/html:<span style="font-size:16px\;"><span style="font-family:times new roman\;"><strong>Rawfa Productions</strong></span></span><br />\n<span style="font-size:16px\;"><span style="font-family:times new roman\;"><strong>Joint Ribbon Cutting &amp\; Grand Opening Celebration with the HD Hispanic Chamber!</strong></span></span>
LOCATION:15625 7th St. Victorville\, CA 92395
UID:e.3354.4032
SEQUENCE:3
DTSTAMP:20260424T123158Z
URL:https://members.ghdcc.com/events/details/r-c-grand-opening-rawfa-productions-4032
END:VEVENT

END:VCALENDAR
