BEGIN:VCALENDAR
VERSION:2.0
PRODID:-//ChamberMaster//Event Calendar 2.0//EN
METHOD:PUBLISH
X-PUBLISHED-TTL:P3D
REFRESH-INTERVAL:P3D
CALSCALE:GREGORIAN
BEGIN:VEVENT
DTSTART:20251117T193000Z
DTEND:20251117T203000Z
X-MICROSOFT-CDO-ALLDAYEVENT:FALSE
SUMMARY:R/C & Grand Opening - Raising Cane's
DESCRIPTION:Raising Cane's \n\nRibbon Cutting & Grand Opening Celebration!\n\nOfficial Grand Opening for the public is 11/18
X-ALT-DESC;FMTTYPE=text/html:<span style="font-size:18px\;"><strong><span style="color:#cc9900\;"><span style="font-family:times new roman\;">Raising Cane&#39\;s&nbsp\;</span></span><br />\n<span style="color:#800000\;"><span style="font-family:times new roman\;">Ribbon Cutting &amp\; Grand Opening Celebration!</span></span><br />\n<span style="font-size:28px\;"><span style="color:#DAA520\;"><span style="font-family:times new roman\;">Official Grand Opening for the public is 11/18</span></span></span></strong></span>
LOCATION:15640 Roy Rogers Dr. Victorville\, CA 92394
UID:e.3354.5219
SEQUENCE:3
DTSTAMP:20260426T032934Z
URL:https://members.ghdcc.com/events/details/r-c-grand-opening-raising-cane-s-11-17-2025-5219
END:VEVENT

END:VCALENDAR
