BEGIN:VCALENDAR
VERSION:2.0
PRODID:-//ChamberMaster//Event Calendar 2.0//EN
METHOD:PUBLISH
X-PUBLISHED-TTL:P3D
REFRESH-INTERVAL:P3D
CALSCALE:GREGORIAN
BEGIN:VEVENT
DTSTART:20260128T200000Z
DTEND:20260128T210000Z
X-MICROSOFT-CDO-ALLDAYEVENT:FALSE
SUMMARY:R/C & Grand Opening- Imperial Physical Therapy P.C. (Apple Valley)
DESCRIPTION:Imperial Physical Therapy P.C.\n\nRibbon Cutting & Grand Opening Celebration!
X-ALT-DESC;FMTTYPE=text/html:<span style="color:#000000\;"><span style="font-size:16px\;"><span style="font-family:times new roman\;"><strong>Imperial Physical Therapy P.C.</strong></span></span><br />\n<span style="font-size:16px\;"><span style="font-family:times new roman\;"><strong>Ribbon Cutting &amp\; Grand Opening Celebration!</strong></span></span></span>
LOCATION:19031 CA -18\, Ste 100 Apple Valley\, CA 92307
UID:e.3354.5288
SEQUENCE:3
DTSTAMP:20260426T002347Z
URL:https://members.ghdcc.com/events/details/r-c-grand-opening-imperial-physical-therapy-p-c-apple-valley-5288
END:VEVENT

END:VCALENDAR
