BEGIN:VCALENDAR
VERSION:2.0
PRODID:-//ChamberMaster//Event Calendar 2.0//EN
METHOD:PUBLISH
X-PUBLISHED-TTL:P3D
REFRESH-INTERVAL:P3D
CALSCALE:GREGORIAN
BEGIN:VEVENT
DTSTART:20251121T190000Z
DTEND:20251121T200000Z
X-MICROSOFT-CDO-ALLDAYEVENT:FALSE
SUMMARY:R/C & Grand Opening- Citrus Counseling Services Inc.
DESCRIPTION:Citrus Counseling Services Inc.\n\nRibbon Cutting & Grand Opening Celebration!\n\nMix & Mingle - 11:00 a.m. - 3:00 p.m.\n\nRibbon Cutting 11:00 a.m. - 12:00 p.m.
X-ALT-DESC;FMTTYPE=text/html:<span style="font-size:16px\;"><span style="font-family:times new roman\;"><strong><span style="color:#000000\;">Citrus Counseling Services Inc.</span></strong></span></span><br />\n<span style="font-size:16px\;"><span style="font-family:times new roman\;"><span style="color:#000000\;"><strong>Ribbon Cutting &amp\; Grand Opening Celebration!<br />\nMix &amp\; Mingle - 11:00 a.m. - 3:00 p.m.</strong></span><br />\n<span style="color:#B22222\;"><strong>Ribbon Cutting 11:00 a.m. - 12:00 p.m.&nbsp\;</strong></span></span></span>
LOCATION:14075 Hesperia Rd.\, Ste 106 Victorville\, CA 92395
UID:e.3354.5254
SEQUENCE:3
DTSTAMP:20260426T032907Z
URL:https://members.ghdcc.com/events/details/r-c-grand-opening-citrus-counseling-services-inc-5254
END:VEVENT

END:VCALENDAR
