BEGIN:VCALENDAR
VERSION:2.0
PRODID:-//ChamberMaster//Event Calendar 2.0//EN
METHOD:PUBLISH
X-PUBLISHED-TTL:P3D
REFRESH-INTERVAL:P3D
CALSCALE:GREGORIAN
BEGIN:VEVENT
DTSTART:20260129T200000Z
DTEND:20260129T210000Z
X-MICROSOFT-CDO-ALLDAYEVENT:FALSE
SUMMARY:R/C & Grand Opening- 911 AM PM Home Health Care\, Inc.
DESCRIPTION:911 AM PM Home Health Care\, Inc.\n\nRibbon Cutting & Grand Opening Celebration!
X-ALT-DESC;FMTTYPE=text/html:<span style="font-size:16px\;"><span style="font-family:times new roman\;"><strong>911 AM PM Home Health Care\, Inc.<br />\nRibbon Cutting &amp\; Grand Opening Celebration!</strong></span></span>
LOCATION:11825 Apple Valley Rd. (Inside Whispering Winds of Apple Valley - second floor) Apple Valley\, CA 92308
UID:e.3354.5285
SEQUENCE:3
DTSTAMP:20260426T002459Z
URL:https://members.ghdcc.com/events/details/r-c-grand-opening-911-am-pm-home-health-care-inc-5285
END:VEVENT

END:VCALENDAR
