BEGIN:VCALENDAR
VERSION:2.0
PRODID:-//ChamberMaster//Event Calendar 2.0//EN
METHOD:PUBLISH
X-PUBLISHED-TTL:P3D
REFRESH-INTERVAL:P3D
CALSCALE:GREGORIAN
BEGIN:VEVENT
DTSTART:20260121T183000Z
DTEND:20260121T193000Z
X-MICROSOFT-CDO-ALLDAYEVENT:FALSE
SUMMARY:R/C & 20th Year Anniversary Celebration ~ El Pollo Loco #3511
DESCRIPTION:El Pollo Loco #3511\n\n"Come Celebrate with us" \n\nRibbon Cutting & 20th Year Anniversary Celebration!
X-ALT-DESC;FMTTYPE=text/html:<strong><span style="font-size:16px\;"><span style="font-family:times new roman\;">El Pollo Loco&nbsp\;#3511</span></span></strong><br />\n<span style="font-size:16px\;"><span style="font-family:times new roman\;"><strong>&ldquo\;Come Celebrate with us&rdquo\;&nbsp\;</strong></span></span><br />\n<strong><span style="font-size:16px\;"><span style="font-family:times new roman\;">Ribbon Cutting &amp\; 20th Year&nbsp\;</span></span></strong><strong><span style="font-size:16px\;"><span style="font-family:times new roman\;">Anniversary Celebration!</span></span></strong>
LOCATION:14456 7th St. Victorville\, CA 92395
UID:e.3354.5284
SEQUENCE:3
DTSTAMP:20260426T002646Z
URL:https://members.ghdcc.com/events/details/r-c-20th-year-anniversary-celebration-el-pollo-loco-3511-5284
END:VEVENT

END:VCALENDAR
