BEGIN:VCALENDAR
VERSION:2.0
PRODID:-//ChamberMaster//Event Calendar 2.0//EN
METHOD:PUBLISH
X-PUBLISHED-TTL:P3D
REFRESH-INTERVAL:P3D
CALSCALE:GREGORIAN
BEGIN:VEVENT
DTSTART:20260409T220000Z
DTEND:20260409T230000Z
X-MICROSOFT-CDO-ALLDAYEVENT:FALSE
SUMMARY:R/C & 1 Year Anniversary- Master Techs Collision
DESCRIPTION:Master Techs Collision \n\nRibbon Cutting & 1 Year Anniversary Celebration!
X-ALT-DESC;FMTTYPE=text/html:<span style="color:#000000\;"><span style="font-size:16px\;"><span style="font-family:times new roman\;"><strong>Master Techs Collision&nbsp\;</strong></span></span></span><br />\n<span style="color:#000000\;"><span style="font-size:16px\;"><span style="font-family:times new roman\;"><strong>Ribbon Cutting &amp\; 1 Year Anniversary Celebration!</strong></span></span></span>
LOCATION:16675 Walnut St.\, Ste A Hesperia\, CA 92345
UID:e.3354.5326
SEQUENCE:3
DTSTAMP:20260420T132713Z
URL:https://members.ghdcc.com/events/details/r-c-1-year-anniversary-master-techs-collision-5326
END:VEVENT

END:VCALENDAR
