BEGIN:VCALENDAR
VERSION:2.0
PRODID:-//ChamberMaster//Event Calendar 2.0//EN
METHOD:PUBLISH
X-PUBLISHED-TTL:P3D
REFRESH-INTERVAL:P3D
CALSCALE:GREGORIAN
BEGIN:VEVENT
DTSTART:20260718T200000Z
DTEND:20260718T210000Z
X-MICROSOFT-CDO-ALLDAYEVENT:FALSE
SUMMARY:R/C & 1 Year Anniversary Celebration ~180 Self-Defense & Performance
DESCRIPTION:180 Self-Defense & Performance\nRibbon Cutting & 1 Year Anniversary Celebration!
X-ALT-DESC;FMTTYPE=text/html:<span style="font-size:16px\;"><span style="font-family:times new roman\;"><strong>180 Self-Defense &amp\; Performance</strong></span></span>\n<div><span style="font-size:16px\;"><span style="font-family:times new roman\;"><strong>Ribbon Cutting &amp\; 1 Year Anniversary Celebration!</strong></span></span></div>\n
LOCATION:14725 7th St. Suite 900 Victorville\, CA 92395
UID:e.3354.5353
SEQUENCE:3
DTSTAMP:20260426T001931Z
URL:https://members.ghdcc.com/events/details/r-c-1-year-anniversary-celebration-180-self-defense-performance-5353
END:VEVENT

END:VCALENDAR
