BEGIN:VCALENDAR
VERSION:2.0
PRODID:-//ChamberMaster//Event Calendar 2.0//EN
METHOD:PUBLISH
X-PUBLISHED-TTL:P3D
REFRESH-INTERVAL:P3D
CALSCALE:GREGORIAN
BEGIN:VEVENT
DTSTART:20260222T010000Z
DTEND:20260222T060000Z
X-MICROSOFT-CDO-ALLDAYEVENT:FALSE
SUMMARY:Mardi Gras ! Taste of the Bayou ~ Presented by AUSA\, National Training Center - High Desert Chapter
DESCRIPTION:Mardi Gras ! Taste of the Bayou\n\nRaffles | Cajun Dinner | Bourbon Pull | Contests | Tarot Reader | Music & Table Games
X-ALT-DESC;FMTTYPE=text/html:Mardi Gras ! Taste of the Bayou<br />\nRaffles | Cajun Dinner | Bourbon Pull | Contests | Tarot Reader | Music &amp\; Table Games&nbsp\;
LOCATION:Cora Harper Center 841 Barstow Rd.\, Barstow\, CA
UID:e.3354.5289
SEQUENCE:3
DTSTAMP:20260425T225416Z
URL:https://members.ghdcc.com/events/details/mardi-gras-taste-of-the-bayou-presented-by-ausa-national-training-center-high-desert-chapter-5289
END:VEVENT

END:VCALENDAR
