BEGIN:VCALENDAR
VERSION:2.0
PRODID:-//ChamberMaster//Event Calendar 2.0//EN
METHOD:PUBLISH
X-PUBLISHED-TTL:P3D
REFRESH-INTERVAL:P3D
CALSCALE:GREGORIAN
BEGIN:VEVENT
DTSTART:20231116T170000Z
DTEND:20231116T180000Z
X-MICROSOFT-CDO-ALLDAYEVENT:FALSE
SUMMARY:Legislative Action Committee
DESCRIPTION:This meeting will feature updates from representatives with Congressman Obernolte's office\, Senator Wilk's office\, Assemblyman Tom Lacky's office\, and Supervisor Col. Cook's (Ret.) office.
X-ALT-DESC;FMTTYPE=text/html:<span style="font-family:arial\,sans-serif\;"><span style="font-size:10.0pt\;">This meeting will feature updates from representatives with <strong>Congressman Obernolte&#39\;s office\, Senator Wilk&#39\;s office\, Assemblyman Tom Lacky&#39\;s office\, and Supervisor Col. Cook&#39\;s (Ret.) offic</strong>e.</span></span><br />\n<br />\n<br />\n&nbsp\;
LOCATION:Via Zoom - Click here to register!
UID:e.3354.3905
SEQUENCE:3
DTSTAMP:20260424T122620Z
URL:https://members.ghdcc.com/events/details/legislative-action-committee-3905
END:VEVENT

END:VCALENDAR
