BEGIN:VCALENDAR
VERSION:2.0
PRODID:-//ChamberMaster//Event Calendar 2.0//EN
METHOD:PUBLISH
X-PUBLISHED-TTL:P3D
REFRESH-INTERVAL:P3D
CALSCALE:GREGORIAN
BEGIN:VEVENT
DTSTART:20231118T190000Z
DTEND:20231118T230000Z
X-MICROSOFT-CDO-ALLDAYEVENT:FALSE
SUMMARY:Inglis Classics Super Car Show!
DESCRIPTION:Inglis Classics Super Car Show! \n\nSuper Care Show\, Car Celebrities\, Live Music\, Pin-Up Contest
X-ALT-DESC;FMTTYPE=text/html:Inglis Classics Super Car Show!&nbsp\;<br />\nSuper Care Show\, Car Celebrities\, Live Music\, Pin-Up Contest<br />\n&nbsp\;
LOCATION:17229 Lemon St. Hesperia\, CA
UID:e.3354.4021
SEQUENCE:3
DTSTAMP:20260424T105214Z
URL:https://members.ghdcc.com/events/details/inglis-classics-super-car-show-4021
END:VEVENT

END:VCALENDAR
