BEGIN:VCALENDAR
VERSION:2.0
PRODID:-//ChamberMaster//Event Calendar 2.0//EN
METHOD:PUBLISH
X-PUBLISHED-TTL:P3D
REFRESH-INTERVAL:P3D
CALSCALE:GREGORIAN
BEGIN:VEVENT
DTSTART:20260501T140000Z
DTEND:20260501T150000Z
X-MICROSOFT-CDO-ALLDAYEVENT:FALSE
SUMMARY:In-Person Coffee Break
DESCRIPTION:We invite you to enjoy coffee and donuts while networking with other local businesses. Start your weekend with an upbeat and informative morning. Please also consider donating an item for our raffle.
X-ALT-DESC;FMTTYPE=text/html:<strong style="color: rgb(51\, 51\, 51)\; background-color: rgb(255\, 255\, 255)\; font-family: &quot\;times new roman&quot\;\; font-size: 16px\;">We invite you to enjoy coffee and donuts while networking with&nbsp\;other&nbsp\;local businesses. Start your weekend with an upbeat and informative morning. Please also consider donating an item for our raffle.</strong>
LOCATION:NEW LOCATION! Rockstars of Tomorrow High Desert 15776 Main St.\, #11 Hesperia\, CA 92345
UID:e.3354.5364
SEQUENCE:3
DTSTAMP:20260421T010719Z
URL:https://members.ghdcc.com/events/details/in-person-coffee-break-5364
END:VEVENT

END:VCALENDAR
