BEGIN:VCALENDAR
VERSION:2.0
PRODID:-//ChamberMaster//Event Calendar 2.0//EN
METHOD:PUBLISH
X-PUBLISHED-TTL:P3D
REFRESH-INTERVAL:P3D
CALSCALE:GREGORIAN
BEGIN:VEVENT
DTSTART:20231117T150000Z
DTEND:20231117T160000Z
X-MICROSOFT-CDO-ALLDAYEVENT:FALSE
SUMMARY:In Person Coffee Break
DESCRIPTION:We invite you to enjoy coffee and donuts while networking with other local businesses. Start your weekend with an upbeat and informative morning. Please also consider donating an item for our raffle.
X-ALT-DESC;FMTTYPE=text/html:We invite you to enjoy coffee and donuts while networking with&nbsp\;other&nbsp\;local businesses. Start your weekend with an upbeat and informative morning. Please also consider donating an item for our raffle.
LOCATION:Percy Bakker Center 9333 E Ave\, Hesperia\, CA 92345
UID:e.3354.4046
SEQUENCE:3
DTSTAMP:20260424T105331Z
URL:https://members.ghdcc.com/events/details/in-person-coffee-break-4046
END:VEVENT

END:VCALENDAR
