BEGIN:VCALENDAR
VERSION:2.0
PRODID:-//ChamberMaster//Event Calendar 2.0//EN
METHOD:PUBLISH
X-PUBLISHED-TTL:P3D
REFRESH-INTERVAL:P3D
CALSCALE:GREGORIAN
BEGIN:VEVENT
DTSTART:20231111T010000Z
DTEND:20231111T043000Z
X-MICROSOFT-CDO-ALLDAYEVENT:FALSE
SUMMARY:High Desert Marines 248th Birthday Ball
DESCRIPTION:U.S. Marine Corps 248th Birthday Ball\n\nCelebrate the Birthday of our beloved corps with an evening of ceremony\, music and dancing.
X-ALT-DESC;FMTTYPE=text/html:U.S. Marine Corps 248th Birthday Ball<br />\nCelebrate the Birthday of our beloved corps with an evening of ceremony\, music and dancing.
LOCATION:Hilton Garden Inn Victorville 12603 Mariposa Rd. Victorville\, CA 92395
UID:e.3354.4037
SEQUENCE:3
DTSTAMP:20260424T123042Z
URL:https://members.ghdcc.com/events/details/high-desert-marines-248th-birthday-ball-4037
END:VEVENT

END:VCALENDAR
