BEGIN:VCALENDAR
VERSION:2.0
PRODID:-//ChamberMaster//Event Calendar 2.0//EN
METHOD:PUBLISH
X-PUBLISHED-TTL:P3D
REFRESH-INTERVAL:P3D
CALSCALE:GREGORIAN
BEGIN:VEVENT
DTSTART:20260508T160000Z
DTEND:20260508T170000Z
X-MICROSOFT-CDO-ALLDAYEVENT:FALSE
SUMMARY:Coffee Break Update Via. Zoom
DESCRIPTION:This Zoom event is an opportunity for our members to receive updates from a representative with the City of Adelanto\, the City of Hesperia\, the City of Victorville\, the Town of Apple Valley and your Greater High Desert Chamber.
X-ALT-DESC;FMTTYPE=text/html:<span style="color: rgb(51\, 51\, 51)\; font-family: sans-serif\, Arial\, Verdana\, &quot\;Trebuchet MS&quot\;\; font-size: 13px\; background-color: rgb(255\, 255\, 255)\;">This Zoom event is an opportunity for our members to receive updates from a representative with the City of Adelanto\, the City of Hesperia\, the City of Victorville\,&nbsp\;the Town of Apple Valley and your Greater High Desert Chamber.</span>
LOCATION:Zoom event Once registered\, you will receive a Zoom link to join our Coffee Break Update.
UID:e.3354.5365
SEQUENCE:3
DTSTAMP:20260421T011159Z
URL:https://members.ghdcc.com/events/details/coffee-break-update-via-zoom-5365
END:VEVENT

END:VCALENDAR
