BEGIN:VCALENDAR
VERSION:2.0
PRODID:-//ChamberMaster//Event Calendar 2.0//EN
METHOD:PUBLISH
X-PUBLISHED-TTL:P3D
REFRESH-INTERVAL:P3D
CALSCALE:GREGORIAN
BEGIN:VEVENT
DTSTART:20231103T160000Z
DTEND:20231103T170000Z
X-MICROSOFT-CDO-ALLDAYEVENT:FALSE
SUMMARY:Coffee Break Update via Zoom
DESCRIPTION:Coffee Break Update via Zoom\n\nCome here updates from the City of Adelanto\, City of Hesperia\, City of Victorville\, and the Town of Apple Valley.
X-ALT-DESC;FMTTYPE=text/html:Coffee Break Update via Zoom<br />\nCome here updates from the City of Adelanto\, City of Hesperia\, City of Victorville\, and the Town of Apple Valley.
LOCATION:Via Zoom
UID:e.3354.4045
SEQUENCE:3
DTSTAMP:20260424T122742Z
URL:https://members.ghdcc.com/events/details/coffee-break-update-via-zoom-4045
END:VEVENT

END:VCALENDAR
