BEGIN:VCALENDAR
VERSION:2.0
PRODID:-//ChamberMaster//Event Calendar 2.0//EN
METHOD:PUBLISH
X-PUBLISHED-TTL:P3D
REFRESH-INTERVAL:P3D
CALSCALE:GREGORIAN
BEGIN:VEVENT
DTSTART:20251213T200000Z
DTEND:20251213T230000Z
X-MICROSOFT-CDO-ALLDAYEVENT:FALSE
SUMMARY:Christmas for the Kids - Hosted by Restore Unity Incorporated
DESCRIPTION:Christmas for the Kids\n\nHosted by Restore Unity Incorporated!\n\nContact Aaron for more details about how you can participate - (951) 392-5879\n\nGain Brand Visibility & Bring Joy to Local Families in NEED - Sponsorship Opportunities Available\, Vendors NEEDED\, Volunteers NEEDED\, Host a TOY DRIVE!
X-ALT-DESC;FMTTYPE=text/html:<p><span style="font-size:16px\;"><span style="font-family:times new roman\;"><span style="color:#000000\;"><strong>Christmas for the Kids<br />\nHosted by&nbsp\;Restore Unity Incorporated!</strong></span><br />\n<span style="color:#006400\;"><strong><span style="font-size:24px\;">Contact Aaron for more details about how you can participate - (951) 392-5879</span></strong></span></span></span><br />\n<span style="font-size:24px\;"><span style="color:#B22222\;"><span style="font-family:times new roman\;"><strong>Gain Brand Visibility &amp\; Bring Joy to Local Families in NEED - </strong></span></span><span style="color:#006400\;"><span style="font-family:times new roman\;"><strong>Sponsorship Opportunities</strong></span></span><span style="color:#B22222\;"><span style="font-family:times new roman\;"><strong> Available\, </strong></span></span><span style="color:#006400\;"><span style="font-family:times new roman\;"><strong>Vendors</strong></span></span><span style="color:#B22222\;"><span style="font-family:times new roman\;"><strong> NEEDED\, </strong></span></span><span style="color:#006400\;"><span style="font-family:times new roman\;"><strong>Volunteers</strong></span></span><span style="color:#B22222\;"><span style="font-family:times new roman\;"><strong> NEEDED\, Host a </strong></span></span><span style="color:#006400\;"><span style="font-family:times new roman\;"><strong>TOY DRIVE</strong></span></span><span style="color:#B22222\;"><span style="font-family:times new roman\;"><strong>!&nbsp\;</strong></span></span></span></p>\n
LOCATION:17508 Hercules Street Hesperia\, CA 92345
UID:e.3354.5257
SEQUENCE:3
DTSTAMP:20260426T032858Z
URL:https://members.ghdcc.com/events/details/christmas-for-the-kids-hosted-by-restore-unity-incorporated-5257
END:VEVENT

END:VCALENDAR
