BEGIN:VCALENDAR
VERSION:2.0
PRODID:-//ChamberMaster//Event Calendar 2.0//EN
METHOD:PUBLISH
X-PUBLISHED-TTL:P3D
REFRESH-INTERVAL:P3D
CALSCALE:GREGORIAN
BEGIN:VEVENT
DTSTART:20260122T173000Z
DTEND:20260122T193000Z
X-MICROSOFT-CDO-ALLDAYEVENT:FALSE
SUMMARY:CANCELLED UNTIL FURTHER NOTICE!!! Soft Opening- Pollo Campero (Ribbon Cutting & Grand Opening on February 4th - time TBD)
DESCRIPTION:CANCELLED UNTIL FURTHER NOTICE!!!!!\n\nPollo Campero \n\nSoft Opening Celebration!\n\n(Ribbon Cutting & Grand Opening on February 4th - time TBD)
X-ALT-DESC;FMTTYPE=text/html:<span style="font-family:times new roman\;"><span style="font-size:16px\;"><strong><span style="color:#B22222\;"><span style="font-size:22px\;">CANCELLED UNTIL FURTHER NOTICE!!!!!</span></span><br />\nPollo Campero&nbsp\;<br />\n<span style="font-size:28px\;">Soft Opening</span> Celebration!<br />\n<span style="font-size:22px\;"><span style="color:#800000\;">(Ribbon Cutting &amp\; Grand Opening on February 4th - time TBD)&nbsp\;</span></span></strong></span></span>
LOCATION:12373 Mariposa Rd. Victorville\, CA 92395
UID:e.3354.5265
SEQUENCE:3
DTSTAMP:20260426T002505Z
URL:https://members.ghdcc.com/events/details/cancelled-until-further-notice-soft-opening-pollo-campero-ribbon-cutting-grand-opening-on-february-4th-time-tbd-5265
END:VEVENT

END:VCALENDAR
