BEGIN:VCALENDAR
VERSION:2.0
PRODID:-//ChamberMaster//Event Calendar 2.0//EN
METHOD:PUBLISH
X-PUBLISHED-TTL:P3D
REFRESH-INTERVAL:P3D
CALSCALE:GREGORIAN
BEGIN:VEVENT
DTSTART:20260610T183000Z
DTEND:20260610T200000Z
X-MICROSOFT-CDO-ALLDAYEVENT:FALSE
SUMMARY:Business Roundtable Meeting
DESCRIPTION:
X-ALT-DESC;FMTTYPE=text/html:
LOCATION:GHDCC Apple Valley Office 16010 Apple Valley Rd.\, Apple Valley\, Ca 92307
UID:e.3354.5375
SEQUENCE:3
DTSTAMP:20260426T032403Z
URL:https://members.ghdcc.com/events/details/business-roundtable-meeting-5375
END:VEVENT

END:VCALENDAR
