BEGIN:VCALENDAR
VERSION:2.0
PRODID:-//ChamberMaster//Event Calendar 2.0//EN
METHOD:PUBLISH
X-PUBLISHED-TTL:P3D
REFRESH-INTERVAL:P3D
CALSCALE:GREGORIAN
BEGIN:VEVENT
DTSTART:20231114T200000Z
DTEND:20231114T210000Z
X-MICROSOFT-CDO-ALLDAYEVENT:FALSE
SUMMARY:Ambassador Committee Meeting
DESCRIPTION:***Closed Group***\n\nFriendsgiving Potluck! Come together to celebrate family\, friends\, and all the things we are thankful for.
X-ALT-DESC;FMTTYPE=text/html:<strong><span style="color:#FF0000\;">***Closed Group***</span></strong><br />\nFriendsgiving Potluck! Come together to celebrate family\, friends\, and all the things we are thankful for.
LOCATION:Apple Valley Office 16010 Apple Valley Rd. Apple Valley\, CA 92307
UID:e.3354.3335
SEQUENCE:3
DTSTAMP:20260424T123426Z
URL:https://members.ghdcc.com/events/details/ambassador-committee-meeting-11-14-2023-3335
END:VEVENT

END:VCALENDAR
