BEGIN:VCALENDAR
VERSION:2.0
PRODID:-//ChamberMaster//Event Calendar 2.0//EN
METHOD:PUBLISH
X-PUBLISHED-TTL:P3D
REFRESH-INTERVAL:P3D
CALSCALE:GREGORIAN
BEGIN:VEVENT
DTSTART:20231111T200000Z
DTEND:20231112T010000Z
X-MICROSOFT-CDO-ALLDAYEVENT:FALSE
SUMMARY:2X Monster Trucks Live Adelanto\, CA
DESCRIPTION:Buckle up! World Champion Monster Trucks are on a collision course for Adelanto Stadium. Experience all the high-flying action November 11th\n\nFor the FIRST TIME EVER! America's craziest Monster Truck Show is coming to Adelanto Plaza & Event Center. Saturday\, November 11th - Don't miss our one GIANT SHOW!\n\nExperience our adrenaline-fuelled show as some of the biggest names in monster trucks compete in nonstop ground-pounding competition. Don't miss 2-time Monster Jam World Champion BOUNTY HUNTER\, queen of monster trucks SCARLET BANDIT\, the always spicy HOT TAMALE\, and this years newest touring monster truck and already crowd favorite SHARK BITE!\n\nBut don't just watch the show!\n\nTake the ride of your life in a REAL Monster Truck and experience the true power of these magnificent machines. Seriously\, you can ride in a real monster truck!\n\nPlus\, meet the drivers and get up close with the trucks for photos at the pre-show meet & greet pit party where you can meet and see all the stars of this amazing family show.\n\nMore than just Monster Trucks:\n\nFreestyle Motocross: The monsters won't be the only ones flying high out there. Brace yourself for gravity-defying Freestyle Motocross as our pro riders pull off stunts more than three-stories in the air that will leave you breathless.\n\nRZR Backflip Attempt: Get comfortable on the edge of your seat as you witness a MASSIVE side-by-side RZR backflip attempt. Is that even possible?? Be there to find out.\n\nKids Powerwheel Races: Kids can be part of the show too! Enter your kiddo in the YOUNG GUNS Powerwheel half -time race. This once in a lifetime experience does not require pre -registration and is open to everyone attending the show.\n\nJust bring your charged up powerwheels to the gate and your automatically entered. Listen for the announcer\, he will let you know when it's time for to head down to the floor to race. Win prizes like t-shirts\, hats and merchandise. Don't forget to bring helmets as they are required.\n\nThis action-packed event is sure to make memories that will last a lifetime\, so don't miss out on this opportunity to see some of the world's most incredible monster trucks and motorsports in action. Get your tickets now and prepare to be amazed!
X-ALT-DESC;FMTTYPE=text/html:Buckle up! World Champion Monster Trucks are on a collision course for Adelanto Stadium. Experience all the high-flying action November 11th<br />\nFor the FIRST TIME EVER! America&#39\;s craziest Monster Truck Show is coming to Adelanto Plaza &amp\; Event Center. Saturday\, November 11th - Don&#39\;t miss our one GIANT SHOW!<br />\nExperience our adrenaline-fuelled show as some of the biggest names in monster trucks compete in nonstop ground-pounding competition. Don&#39\;t miss 2-time Monster Jam World Champion BOUNTY HUNTER\, queen of monster trucks SCARLET BANDIT\, the always spicy HOT TAMALE\, and this years newest touring monster truck and already crowd favorite SHARK BITE!<br />\nBut don&rsquo\;t just watch the show!<br />\nTake the ride of your life in a REAL Monster Truck and experience the true power of these magnificent machines. Seriously\, you can ride in a real monster truck!<br />\nPlus\, meet the drivers and get up close with the trucks for photos at the pre-show meet &amp\; greet pit party where you can meet and see all the stars of this amazing family show.<br />\nMore than just Monster Trucks:<br />\nFreestyle Motocross: The monsters won&rsquo\;t be the only ones flying high out there. Brace yourself for gravity-defying Freestyle Motocross as our pro riders pull off stunts more than three-stories in the air that will leave you breathless.<br />\nRZR Backflip Attempt: Get comfortable on the edge of your seat as you witness a MASSIVE side-by-side RZR backflip attempt. Is that even possible?? Be there to find out.<br />\nKids Powerwheel Races: Kids can be part of the show too! Enter your kiddo in the YOUNG GUNS Powerwheel half -time race. This once in a lifetime experience does not require pre -registration and is open to everyone attending the show.<br />\nJust bring your charged up powerwheels to the gate and your automatically entered. Listen for the announcer\, he will let you know when it&#39\;s time for to head down to the floor to race. Win prizes like t-shirts\, hats and merchandise. Don&#39\;t forget to bring helmets as they are required.<br />\nThis action-packed event is sure to make memories that will last a lifetime\, so don&#39\;t miss out on this opportunity to see some of the world&#39\;s most incredible monster trucks and motorsports in action. Get your tickets now and prepare to be amazed!
LOCATION:12000 Stadium Way\,Adelanto\,92301
UID:e.3354.4042
SEQUENCE:3
DTSTAMP:20260424T122944Z
URL:https://members.ghdcc.com/events/details/2x-monster-trucks-live-adelanto-ca-4042
END:VEVENT

END:VCALENDAR
