BEGIN:VCALENDAR
VERSION:2.0
PRODID:-//ChamberMaster//Event Calendar 2.0//EN
METHOD:PUBLISH
X-PUBLISHED-TTL:P3D
REFRESH-INTERVAL:P3D
CALSCALE:GREGORIAN
BEGIN:VEVENT
DTSTART:20260523T170000Z
DTEND:20260523T230000Z
X-MICROSOFT-CDO-ALLDAYEVENT:FALSE
SUMMARY:2-Day Grand Opening Community Event- ARCO ampm & Mojave Express Car Wash
DESCRIPTION:ARCO ampm & Mojave Express Car Wash \n\n2-Day Grand Opening Event!
X-ALT-DESC;FMTTYPE=text/html:<span style="font-size:16px\;"><span style="font-family:times new roman\;"><strong>ARCO ampm &amp\;&nbsp\;Mojave Express Car Wash&nbsp\;<br />\n2-Day Grand Opening Event!</strong></span></span>
LOCATION:14402 Mojave Dr. Victorville\, CA 92394 (Mojave Dr./El Evado Rd.)
UID:e.3354.5356
SEQUENCE:3
DTSTAMP:20260425T173707Z
URL:https://members.ghdcc.com/events/details/2-day-grand-opening-community-event-arco-ampm-mojave-express-car-wash-5356
END:VEVENT

END:VCALENDAR
